BEGIN:VCALENDAR
VERSION:2.0
PRODID:-//Mid-South Diocese - ECPv6.15.20//NONSGML v1.0//EN
CALSCALE:GREGORIAN
METHOD:PUBLISH
X-WR-CALNAME:Mid-South Diocese
X-ORIGINAL-URL:https://midsouthdiocese.life
X-WR-CALDESC:Events for Mid-South Diocese
REFRESH-INTERVAL;VALUE=DURATION:PT1H
X-Robots-Tag:noindex
X-PUBLISHED-TTL:PT1H
BEGIN:VTIMEZONE
TZID:America/New_York
BEGIN:DAYLIGHT
TZOFFSETFROM:-0500
TZOFFSETTO:-0400
TZNAME:EDT
DTSTART:20250309T070000
END:DAYLIGHT
BEGIN:STANDARD
TZOFFSETFROM:-0400
TZOFFSETTO:-0500
TZNAME:EST
DTSTART:20251102T060000
END:STANDARD
BEGIN:DAYLIGHT
TZOFFSETFROM:-0500
TZOFFSETTO:-0400
TZNAME:EDT
DTSTART:20260308T070000
END:DAYLIGHT
BEGIN:STANDARD
TZOFFSETFROM:-0400
TZOFFSETTO:-0500
TZNAME:EST
DTSTART:20261101T060000
END:STANDARD
BEGIN:DAYLIGHT
TZOFFSETFROM:-0500
TZOFFSETTO:-0400
TZNAME:EDT
DTSTART:20270314T070000
END:DAYLIGHT
BEGIN:STANDARD
TZOFFSETFROM:-0400
TZOFFSETTO:-0500
TZNAME:EST
DTSTART:20271107T060000
END:STANDARD
END:VTIMEZONE
BEGIN:VEVENT
DTSTART;TZID=America/New_York:20260610T080000
DTEND;TZID=America/New_York:20260612T170000
DTSTAMP:20260423T170227
CREATED:20251230T213711Z
LAST-MODIFIED:20251231T144736Z
UID:1799-1781078400-1781283600@midsouthdiocese.life
SUMMARY:Mid-South Convocation
DESCRIPTION:
URL:https://midsouthdiocese.life/dioceseanevent/mid-south-convocation/
LOCATION:Cathedral of Christ the King – Sharpsburg\, 4881 Highway 34 East\, Sharpsburg\, 30277\, United States
CATEGORIES:Diocesan Events
ATTACH;FMTTYPE=image/jpeg:https://midsouthdiocese.life/wp-content/uploads/2026/01/Young-people-worshiping-scaled.jpeg
ORGANIZER;CN="Bishop Jason Epps":MAILTO:jasonepps@ctk.life
END:VEVENT
END:VCALENDAR