BEGIN:VCALENDAR
VERSION:2.0
PRODID:-//Mid-South Diocese - ECPv6.15.20//NONSGML v1.0//EN
CALSCALE:GREGORIAN
METHOD:PUBLISH
X-WR-CALNAME:Mid-South Diocese
X-ORIGINAL-URL:https://midsouthdiocese.life
X-WR-CALDESC:Events for Mid-South Diocese
REFRESH-INTERVAL;VALUE=DURATION:PT1H
X-Robots-Tag:noindex
X-PUBLISHED-TTL:PT1H
BEGIN:VTIMEZONE
TZID:America/New_York
BEGIN:DAYLIGHT
TZOFFSETFROM:-0500
TZOFFSETTO:-0400
TZNAME:EDT
DTSTART:20250309T070000
END:DAYLIGHT
BEGIN:STANDARD
TZOFFSETFROM:-0400
TZOFFSETTO:-0500
TZNAME:EST
DTSTART:20251102T060000
END:STANDARD
BEGIN:DAYLIGHT
TZOFFSETFROM:-0500
TZOFFSETTO:-0400
TZNAME:EDT
DTSTART:20260308T070000
END:DAYLIGHT
BEGIN:STANDARD
TZOFFSETFROM:-0400
TZOFFSETTO:-0500
TZNAME:EST
DTSTART:20261101T060000
END:STANDARD
BEGIN:DAYLIGHT
TZOFFSETFROM:-0500
TZOFFSETTO:-0400
TZNAME:EDT
DTSTART:20270314T070000
END:DAYLIGHT
BEGIN:STANDARD
TZOFFSETFROM:-0400
TZOFFSETTO:-0500
TZNAME:EST
DTSTART:20271107T060000
END:STANDARD
END:VTIMEZONE
BEGIN:VEVENT
DTSTART;TZID=America/New_York:20260913T080000
DTEND;TZID=America/New_York:20260913T140000
DTSTAMP:20260423T184046
CREATED:20251230T225214Z
LAST-MODIFIED:20251231T145149Z
UID:1812-1789286400-1789308000@midsouthdiocese.life
SUMMARY:Episcopal Visit - St. Luke
DESCRIPTION:
URL:https://midsouthdiocese.life/dioceseanevent/episcopal-visit-st-luke/
LOCATION:St. Luke Mission\, 1721 Chalybeate Springs Road\, Manchester\, GA\, 31816\, United States
CATEGORIES:Episcopal Visit by Bishop Jason Epps
ATTACH;FMTTYPE=image/jpeg:https://midsouthdiocese.life/wp-content/uploads/2026/01/Episcopal-Visit-scaled.jpeg
ORGANIZER;CN="Rev. Canon Bob Wills":MAILTO:vanguardcec@yahoo.com
END:VEVENT
END:VCALENDAR