BEGIN:VCALENDAR
VERSION:2.0
PRODID:-//Mid-South Diocese - ECPv6.15.20//NONSGML v1.0//EN
CALSCALE:GREGORIAN
METHOD:PUBLISH
X-WR-CALNAME:Mid-South Diocese
X-ORIGINAL-URL:https://midsouthdiocese.life
X-WR-CALDESC:Events for Mid-South Diocese
REFRESH-INTERVAL;VALUE=DURATION:PT1H
X-Robots-Tag:noindex
X-PUBLISHED-TTL:PT1H
BEGIN:VTIMEZONE
TZID:America/New_York
BEGIN:DAYLIGHT
TZOFFSETFROM:-0500
TZOFFSETTO:-0400
TZNAME:EDT
DTSTART:20250309T070000
END:DAYLIGHT
BEGIN:STANDARD
TZOFFSETFROM:-0400
TZOFFSETTO:-0500
TZNAME:EST
DTSTART:20251102T060000
END:STANDARD
BEGIN:DAYLIGHT
TZOFFSETFROM:-0500
TZOFFSETTO:-0400
TZNAME:EDT
DTSTART:20260308T070000
END:DAYLIGHT
BEGIN:STANDARD
TZOFFSETFROM:-0400
TZOFFSETTO:-0500
TZNAME:EST
DTSTART:20261101T060000
END:STANDARD
BEGIN:DAYLIGHT
TZOFFSETFROM:-0500
TZOFFSETTO:-0400
TZNAME:EDT
DTSTART:20270314T070000
END:DAYLIGHT
BEGIN:STANDARD
TZOFFSETFROM:-0400
TZOFFSETTO:-0500
TZNAME:EST
DTSTART:20271107T060000
END:STANDARD
END:VTIMEZONE
BEGIN:VEVENT
DTSTART;TZID=America/New_York:20260414T080000
DTEND;TZID=America/New_York:20260416T170000
DTSTAMP:20260423T185246
CREATED:20251230T212421Z
LAST-MODIFIED:20251231T144837Z
UID:1793-1776153600-1776358800@midsouthdiocese.life
SUMMARY:North American House of Bishops
DESCRIPTION:
URL:https://midsouthdiocese.life/dioceseanevent/north-american-house-of-bishops/
LOCATION:The Cathedral Church of Reconciliation\, 2300 Grafton Shop Rd\, Forest Hill\, MD\, 21050\, United States
CATEGORIES:National Events
ATTACH;FMTTYPE=image/jpeg:https://midsouthdiocese.life/wp-content/uploads/2026/01/Bishops-meeting-scaled.jpeg
ORGANIZER;CN="Bishop Rob Northwood":MAILTO:frnorthwood@comcast.net
END:VEVENT
END:VCALENDAR